BEGIN:VCALENDAR
VERSION:2.0
PRODID:-//Southeast Ohio Classical Academy - ECPv6.15.13.1//NONSGML v1.0//EN
CALSCALE:GREGORIAN
METHOD:PUBLISH
X-WR-CALNAME:Southeast Ohio Classical Academy
X-ORIGINAL-URL:https://socacademy.org
X-WR-CALDESC:Events for Southeast Ohio Classical Academy
REFRESH-INTERVAL;VALUE=DURATION:PT1H
X-Robots-Tag:noindex
X-PUBLISHED-TTL:PT1H
BEGIN:VTIMEZONE
TZID:UTC
BEGIN:STANDARD
TZOFFSETFROM:+0000
TZOFFSETTO:+0000
TZNAME:UTC
DTSTART:20240101T000000
END:STANDARD
END:VTIMEZONE
BEGIN:VEVENT
DTSTART;TZID=UTC:20260417T191500
DTEND;TZID=UTC:20260417T200000
DTSTAMP:20260423T082341
CREATED:20260319T164250Z
LAST-MODIFIED:20260319T164250Z
UID:10000719-1776453300-1776456000@socacademy.org
SUMMARY:4th Volleyball - SOCA vs. Alexander
DESCRIPTION:Court 1 at Nelsonville-York Elementary.
URL:https://socacademy.org/event/4th-volleyball-soca-vs-eastern-2/
LOCATION:Nelsonville-York Elementary School\, 4 Buckeye Dr\, Nelsonville\, OH\, 45764\, United States
CATEGORIES:Athletics
END:VEVENT
BEGIN:VEVENT
DTSTART;TZID=UTC:20260410T183000
DTEND;TZID=UTC:20260410T193000
DTSTAMP:20260423T082341
CREATED:20260319T164016Z
LAST-MODIFIED:20260319T164016Z
UID:10000718-1775845800-1775849400@socacademy.org
SUMMARY:4th Volleyball - SOCA vs. Eastern
DESCRIPTION:Court 1 at Nelsonville-York Elementary.
URL:https://socacademy.org/event/4th-volleyball-soca-vs-eastern/2026-04-10/
LOCATION:Nelsonville-York Elementary School\, 4 Buckeye Dr\, Nelsonville\, OH\, 45764\, United States
CATEGORIES:Athletics
END:VEVENT
BEGIN:VEVENT
DTSTART;TZID=UTC:20251213T113000
DTEND;TZID=UTC:20251213T123000
DTSTAMP:20260423T082341
CREATED:20251203T151202Z
LAST-MODIFIED:20251203T151202Z
UID:10000667-1765625400-1765629000@socacademy.org
SUMMARY:5th Basketball - SOCA vs. Wellston
DESCRIPTION:
URL:https://socacademy.org/event/5th-basketball-soca-vs-wellston/
LOCATION:Nelsonville-York Elementary School\, 4 Buckeye Dr\, Nelsonville\, OH\, 45764\, United States
CATEGORIES:Athletics
END:VEVENT
BEGIN:VEVENT
DTSTART;TZID=UTC:20251213T113000
DTEND;TZID=UTC:20251213T123000
DTSTAMP:20260423T082341
CREATED:20251124T162621Z
LAST-MODIFIED:20251124T162621Z
UID:10000664-1765625400-1765629000@socacademy.org
SUMMARY:5th Basketball - SOCA vs. Nelsonville-York
DESCRIPTION:
URL:https://socacademy.org/event/5th-basketball-soca-vs-nelsonville-york/
LOCATION:Nelsonville-York Elementary School\, 4 Buckeye Dr\, Nelsonville\, OH\, 45764\, United States
CATEGORIES:Athletics
END:VEVENT
BEGIN:VEVENT
DTSTART;TZID=UTC:20251213T104000
DTEND;TZID=UTC:20251213T114000
DTSTAMP:20260423T082341
CREATED:20251203T151049Z
LAST-MODIFIED:20251203T151049Z
UID:10000666-1765622400-1765626000@socacademy.org
SUMMARY:3rd/4th Basketball - SOCA vs. Nelsonville-York
DESCRIPTION:
URL:https://socacademy.org/event/3rd-4th-basketball-soca-vs-nelsonville-york-2/
LOCATION:Nelsonville-York Elementary School\, 4 Buckeye Dr\, Nelsonville\, OH\, 45764\, United States
CATEGORIES:Athletics
END:VEVENT
BEGIN:VEVENT
DTSTART;TZID=UTC:20251213T103000
DTEND;TZID=UTC:20251213T113000
DTSTAMP:20260423T082341
CREATED:20251124T162510Z
LAST-MODIFIED:20251124T162510Z
UID:10000663-1765621800-1765625400@socacademy.org
SUMMARY:3rd/4th Basketball - SOCA vs. Nelsonville-York
DESCRIPTION:
URL:https://socacademy.org/event/3rd-4th-basketball-soca-vs-nelsonville-york/
LOCATION:Nelsonville-York Elementary School\, 4 Buckeye Dr\, Nelsonville\, OH\, 45764\, United States
CATEGORIES:Athletics
END:VEVENT
BEGIN:VEVENT
DTSTART;TZID=UTC:20251129T145000
DTEND;TZID=UTC:20251129T155000
DTSTAMP:20260423T082341
CREATED:20251113T162738Z
LAST-MODIFIED:20251117T162909Z
UID:10000652-1764427800-1764431400@socacademy.org
SUMMARY:5th Basketball - SOCA vs. Miller
DESCRIPTION:
URL:https://socacademy.org/event/5th-basketball-game-soca-vs-miller/
LOCATION:Nelsonville-York Elementary School\, 4 Buckeye Dr\, Nelsonville\, OH\, 45764\, United States
CATEGORIES:Athletics
END:VEVENT
BEGIN:VEVENT
DTSTART;TZID=UTC:20251129T140000
DTEND;TZID=UTC:20251129T150000
DTSTAMP:20260423T082341
CREATED:20251113T162538Z
LAST-MODIFIED:20251117T162922Z
UID:10000651-1764424800-1764428400@socacademy.org
SUMMARY:3rd/4th Basketball - SOCA vs. Miller
DESCRIPTION:
URL:https://socacademy.org/event/3rd-4th-basketball-game-soca-vs-miller/
LOCATION:Nelsonville-York Elementary School\, 4 Buckeye Dr\, Nelsonville\, OH\, 45764\, United States
CATEGORIES:Athletics
END:VEVENT
BEGIN:VEVENT
DTSTART;TZID=UTC:20251129T090000
DTEND;TZID=UTC:20251129T100000
DTSTAMP:20260423T082341
CREATED:20251113T162851Z
LAST-MODIFIED:20251117T162700Z
UID:10000653-1764406800-1764410400@socacademy.org
SUMMARY:6th Basketball - SOCA vs. Nelsonville-York
DESCRIPTION:
URL:https://socacademy.org/event/6th-basketball-game-soca-vs-nelsonville-york/
LOCATION:Nelsonville-York Elementary School\, 4 Buckeye Dr\, Nelsonville\, OH\, 45764\, United States
CATEGORIES:Athletics
END:VEVENT
END:VCALENDAR