BEGIN:VCALENDAR
VERSION:2.0
PRODID:-//Southeast Ohio Classical Academy - ECPv6.15.13.1//NONSGML v1.0//EN
CALSCALE:GREGORIAN
METHOD:PUBLISH
X-WR-CALNAME:Southeast Ohio Classical Academy
X-ORIGINAL-URL:https://socacademy.org
X-WR-CALDESC:Events for Southeast Ohio Classical Academy
REFRESH-INTERVAL;VALUE=DURATION:PT1H
X-Robots-Tag:noindex
X-PUBLISHED-TTL:PT1H
BEGIN:VTIMEZONE
TZID:UTC
BEGIN:STANDARD
TZOFFSETFROM:+0000
TZOFFSETTO:+0000
TZNAME:UTC
DTSTART:20250101T000000
END:STANDARD
END:VTIMEZONE
BEGIN:VEVENT
DTSTART;TZID=UTC:20260513T154500
DTEND;TZID=UTC:20260513T163000
DTSTAMP:20260421T051949
CREATED:20251022T154447Z
LAST-MODIFIED:20251023T155542Z
UID:10000349-1778687100-1778689800@socacademy.org
SUMMARY:Rubik's Cube Club Grades 3-4
DESCRIPTION:Afterschool club hosted by Mr. Watson.
URL:https://socacademy.org/event/rubiks-cube-club-grades-3-4/2026-05-13/
END:VEVENT
END:VCALENDAR